BEGIN:VCALENDAR
VERSION:2.0
PRODID:-//eventon.com NONSGML v1.0//EN
CALSCALE:GREGORIAN
METHOD:PUBLISH
BEGIN:VEVENT
UID:69e828463fe7f
DTSTAMP:20260422T014542Z
DTSTART:20260523T000000Z
DTEND:20260523T060000Z
LOCATION:
SUMMARY:Writing Oral History: Turning Talk into Text
DESCRIPTION:Presenters:&nbsp;Alistair Thomson Date:&nbsp;Saturday 23 May\, 
  2026 Time:&nbsp;10:00am-4:00pm Online &#8211; advanced course. In this aud
 io-visual digital age\,  it’s easy to forget that oral historians often u
 se interviews in written formats. This interactive online workshop will foc
 us on approaches and issues in creating text-based outputs from oral histor
 y interviews\,  using examples from[..]\nhttps://oralhistorytas.org.au/even
 ts/writing-oral-history-turning-talk-into-text/
URL:https://oralhistorytas.org.au/events/writing-oral-history-turning-talk-into-text/
END:VEVENT
END:VCALENDAR