BEGIN:VCALENDAR
VERSION:2.0
PRODID:-//eventon.com NONSGML v1.0//EN
CALSCALE:GREGORIAN
METHOD:PUBLISH
BEGIN:VEVENT
UID:69e6414ff2c64
DTSTAMP:20260420T150759Z
DTSTART:20260306T230000Z
DTEND:20260307T010000Z
LOCATION:
SUMMARY:Introduction to Oral History
DESCRIPTION:In this introductory seminar\,  Oral History NSW Vice President
  Scott McKinnon will explore some of the key ideas behind oral history as a
  research methodology and will outline important steps in planning oral his
 tory projects\,  including tips on preparing for\,  undertaking and preserv
 ing interviews. Visit the OHNSW website to register[..]\nhttps://oralhistor
 ytas.org.au/events/introduction-to-oral-history/
URL:https://oralhistorytas.org.au/events/introduction-to-oral-history/
END:VEVENT
END:VCALENDAR