BEGIN:VCALENDAR
VERSION:2.0
PRODID:-//eventon.com NONSGML v1.0//EN
CALSCALE:GREGORIAN
METHOD:PUBLISH
BEGIN:VEVENT
UID:69e783ebef4b5
DTSTAMP:20260421T140427Z
DTSTART:20260918
DTEND:20260919
LOCATION:
SUMMARY:NOHANZ Conference 2026
DESCRIPTION:The National Oral History Association of New Zealand (NOHANZ) w
 ill hold its biennial conference from 18-20 September 2026 at the Tūranga 
 Central City Library\,  Christchurch. The theme of the conference is Tūran
 ga | Places we belong. Proposals for a paper or panel should be submitted b
 y Monday 25 May 2026.[..]\nhttps://oralhistorytas.org.au/events/nohanz-conf
 erence-2026/
URL:https://oralhistorytas.org.au/events/nohanz-conference-2026/
END:VEVENT
END:VCALENDAR