BEGIN:VCALENDAR
VERSION:2.0
PRODID:-//eventon.com NONSGML v1.0//EN
CALSCALE:GREGORIAN
METHOD:PUBLISH
BEGIN:VEVENT
UID:69e5fd1213aa4
DTSTAMP:20260420T101650Z
DTSTART:20261014
DTEND:20261015
LOCATION:
SUMMARY:OHA (USA) Annual Meeting 2026
DESCRIPTION:The annual meeting of the Oral History Association will be held
  from 14 to 17 October 2026 in Portland\,  Oregon\,  United States. The the
 me is &#8216;Landcapes of Memory&#8217;. Call for Proposals Our memories ar
 e shaped by the landscapes we inhabit—both real and imagined. These lands
 capes are shifting in the face[..]\nhttps://oralhistorytas.org.au/events/20
 26-oha-usa-annual-meeting/
URL:https://oralhistorytas.org.au/events/2026-oha-usa-annual-meeting/
END:VEVENT
END:VCALENDAR