BEGIN:VCALENDAR
VERSION:2.0
PRODID:-//eventon.com NONSGML v1.0//EN
CALSCALE:GREGORIAN
METHOD:PUBLISH
BEGIN:VEVENT
UID:69e68eb3b093f
DTSTAMP:20260420T203811Z
DTSTART:20260629
DTEND:20260630
LOCATION:Macquarie University
SUMMARY:AHA Conference 2026
DESCRIPTION:The 2026 Australian Historical Association Conference will be h
 osted by Macquarie Unviesity in Sydney\,  New South Wales from 29 June to 3
  July. The organising committee a welcome historians from around Australia 
 and the world to Sydney\,  on Dharug Country\,  to share their new research
  and engage one another on[..]\nhttps://oralhistorytas.org.au/events/2026-a
 ha-conference/
URL:https://oralhistorytas.org.au/events/2026-aha-conference/
END:VEVENT
END:VCALENDAR